BEGIN:VCALENDAR
PRODID:-//SPD im Regionalverband//Frankfurt am Main//DE
VERSION:2.0
METHOD:PUBLISH
X-WR-CALNAME:Termine SPD Gruppe im Regionalverband
X-MS-OLK-WKHRSTART;TZID="Mitteleuropäische Zeit":080000
X-MS-OLK-WKHREND;TZID="Mitteleuropäische Zeit":170000
X-MS-OLK-WKHRDAYS:MO,TU,WE,TH,FR
BEGIN:VTIMEZONE
TZID:Mitteleuropäische Zeit
BEGIN:STANDARD
DTSTART:16011028T030000
RRULE:FREQ=YEARLY;BYDAY=-1SU;BYMONTH=10
TZOFFSETFROM:+0200
TZOFFSETTO:+0100
END:STANDARD
BEGIN:DAYLIGHT
DTSTART:16010325T020000
RRULE:FREQ=YEARLY;BYDAY=-1SU;BYMONTH=3
TZOFFSETFROM:+0100
TZOFFSETTO:+0200
END:DAYLIGHT
END:VTIMEZONE

BEGIN:VEVENT
SUMMARY:Vorgespräch Regionalvorstand
UID:1668
STATUS:CONFIRMED
DTSTART:20260416T090000
DTEND:20260416T090000
LAST-MODIFIED:20251009T122836
LOCATION:Gebäude des Regionalverbandes Poststraße 16  60329  Frankfurt am Main
ORGANIZER;CN=SPD im Regionalvorstand
END:VEVENT

BEGIN:VEVENT
SUMMARY:Regionalvorstand
UID:1669
STATUS:CONFIRMED
DTSTART:20260416T100000
DTEND:20260416T100000
LAST-MODIFIED:20251009T122906
LOCATION:Gebäude des Regionalverbandes Poststraße 16  60329  Frankfurt am Main
ORGANIZER;CN=Regionalvorstand Frankfurt Rhein Main
END:VEVENT

BEGIN:VEVENT
SUMMARY:Gruppenvorstand
UID:1670
STATUS:CONFIRMED
DTSTART:20260428T123000
DTEND:20260428T123000
LAST-MODIFIED:20251009T123034
LOCATION:Gebäude des Regionalverbandes Poststraße 16  60329  Frankfurt am Main
ORGANIZER;CN=SPD-Gruppe in der Verbandskammer
END:VEVENT

BEGIN:VEVENT
SUMMARY:Gruppensitzung
UID:1671
STATUS:CONFIRMED
DTSTART:20260428T140000
DTEND:20260428T140000
LAST-MODIFIED:20251009T123122
LOCATION:Gebäude des Regionalverbandes Poststraße 16  60329  Frankfurt am Main
ORGANIZER;CN=SPD-Gruppe in der Verbandskammer
END:VEVENT

BEGIN:VEVENT
SUMMARY:Vorgespräch Arbeitskreis Grundsatzfragen
UID:1672
STATUS:CONFIRMED
DTSTART:20260430T093000
DTEND:20260430T093000
LAST-MODIFIED:20251009T123226
LOCATION:Gebäude des Regionalverbandes Poststraße 16  60329  Frankfurt am Main
ORGANIZER;CN=SPD-Gruppe in der Verbandskammer
END:VEVENT

BEGIN:VEVENT
SUMMARY:Arbeitskreis Grundsatzfragen
UID:1673
STATUS:CONFIRMED
DTSTART:20260430T100000
DTEND:20260430T100000
LAST-MODIFIED:20251009T123320
LOCATION:Gebäude des Regionalverbandes Poststraße 16  60329  Frankfurt am Main
ORGANIZER;CN=SPD-Gruppe in der Verbandskammer
END:VEVENT

BEGIN:VEVENT
SUMMARY:AK Planung
UID:1674
STATUS:CONFIRMED
DTSTART:20260507T130000
DTEND:20260507T130000
LAST-MODIFIED:20251009T123436
LOCATION:Gebäude des Regionalverbandes Poststraße 16  60329  Frankfurt am Main
ORGANIZER;CN=SPD-Gruppe in der Verbandskammer
END:VEVENT

BEGIN:VEVENT
SUMMARY:Ausschuss Planung
UID:1675
STATUS:CONFIRMED
DTSTART:20260507T140000
DTEND:20260507T140000
LAST-MODIFIED:20251009T123517
LOCATION:Gebäude des Regionalverbandes Poststraße 16  60329  Frankfurt am Main
ORGANIZER;CN=Verbandskammer des Regionalverbandes Frankfurt Rhein Main
END:VEVENT

BEGIN:VEVENT
SUMMARY:Vorgespräch Koa-Runde 
UID:1676
STATUS:CONFIRMED
DTSTART:20260508T090000
DTEND:20260508T090000
LAST-MODIFIED:20251009T140050
LOCATION:Gebäude des Regionalverbandes Poststraße 16  60329  Frankfurt am Main
ORGANIZER;CN=SPD-Gruppe in der Verbandskammer
END:VEVENT

BEGIN:VEVENT
SUMMARY:Koa-Runde
UID:1677
STATUS:CONFIRMED
DTSTART:20260508T100000
DTEND:20260508T100000
LAST-MODIFIED:20251009T140112
LOCATION:Gebäude des Regionalverbandes Poststraße 16  60329  Frankfurt am Main
ORGANIZER;CN=SPD-Gruppe in der Verbandskammer
END:VEVENT

BEGIN:VEVENT
SUMMARY:AK HaFi
UID:1678
STATUS:CONFIRMED
DTSTART:20260508T120000
DTEND:20260508T120000
LAST-MODIFIED:20251009T124241
LOCATION:Gebäude des Regionalverbandes Poststraße 16  60329  Frankfurt am Main
ORGANIZER;CN=SPD-Gruppe in der Verbandskammer
END:VEVENT

BEGIN:VEVENT
SUMMARY:Ausschuss HaFi
UID:1679
STATUS:CONFIRMED
DTSTART:20260508T130000
DTEND:20260508T130000
LAST-MODIFIED:20251009T124406
LOCATION:Gebäude des Regionalverbandes Poststraße 16  60329  Frankfurt am Main
ORGANIZER;CN=SPD-Gruppe in der Verbandskammer
END:VEVENT

BEGIN:VEVENT
SUMMARY:Gruppensitzung
UID:1680
STATUS:CONFIRMED
DTSTART:20260513T090000
DTEND:20260513T090000
LAST-MODIFIED:20251009T124610
LOCATION:Rathaus Römer Römerberg 23 60311 Frankfurt am Main
ORGANIZER;CN=SPD-Gruppe in der Verbandskammer
END:VEVENT

BEGIN:VEVENT
SUMMARY:Verbandskammer
UID:1681
STATUS:CONFIRMED
DTSTART:20260513T103000
DTEND:20260513T103000
LAST-MODIFIED:20251009T124542
LOCATION:Plenarsaal im Römer Frankfurt am Main Römerberg 23 60311  Frankfurt am Main
ORGANIZER;CN=Verbandskammer des Regionalverbandes Frankfurt Rhein Main
END:VEVENT

BEGIN:VEVENT
SUMMARY:Vorgespräch Regionalvorstand
UID:1682
STATUS:CONFIRMED
DTSTART:20260521T090000
DTEND:20260521T090000
LAST-MODIFIED:20251009T124720
LOCATION:Gebäude des Regionalverbandes Poststraße 16  60329  Frankfurt am Main
ORGANIZER;CN=SPD im Regionalvorstand
END:VEVENT

BEGIN:VEVENT
SUMMARY:Regionalvorstand
UID:1683
STATUS:CONFIRMED
DTSTART:20260521T100000
DTEND:20260521T100000
LAST-MODIFIED:20251009T124838
LOCATION:Gebäude des Regionalverbandes Poststraße 16  60329  Frankfurt am Main
ORGANIZER;CN=Regionalvorstand Frankfurt Rhein Main
END:VEVENT

BEGIN:VEVENT
SUMMARY:Gruppenvorstand
UID:1684
STATUS:CONFIRMED
DTSTART:20260602T123000
DTEND:20260602T123000
LAST-MODIFIED:20251009T124944
LOCATION:Gebäude des Regionalverbandes Poststraße 16  60329  Frankfurt am Main
ORGANIZER;CN=SPD-Gruppe in der Verbandskammer
END:VEVENT

BEGIN:VEVENT
SUMMARY:Gruppensitzung
UID:1685
STATUS:CONFIRMED
DTSTART:20260602T140000
DTEND:20260602T140000
LAST-MODIFIED:20251009T125035
LOCATION:Gebäude des Regionalverbandes Poststraße 16  60329  Frankfurt am Main
ORGANIZER;CN=SPD-Gruppe in der Verbandskammer
END:VEVENT

BEGIN:VEVENT
SUMMARY:Vorgespräch Arbeitskreis Grundsatzfragen
UID:1686
STATUS:CONFIRMED
DTSTART:20260611T093000
DTEND:20260611T093000
LAST-MODIFIED:20251009T125144
LOCATION:Gebäude des Regionalverbandes Poststraße 16  60329  Frankfurt am Main
ORGANIZER;CN=SPD-Gruppe in der Verbandskammer
END:VEVENT

BEGIN:VEVENT
SUMMARY:Arbeitskreis Grundsatzfragen
UID:1687
STATUS:CONFIRMED
DTSTART:20260611T100000
DTEND:20260611T100000
LAST-MODIFIED:20251009T125247
LOCATION:Gebäude des Regionalverbandes Poststraße 16  60329  Frankfurt am Main
ORGANIZER;CN=Verbandskammer des Regionalverbandes Frankfurt Rhein Main
END:VEVENT

BEGIN:VEVENT
SUMMARY:AK Planung
UID:1688
STATUS:CONFIRMED
DTSTART:20260611T130000
DTEND:20260611T130000
LAST-MODIFIED:20251009T125340
LOCATION:Gebäude des Regionalverbandes Poststraße 16  60329  Frankfurt am Main
ORGANIZER;CN=SPD-Gruppe in der Verbandskammer
END:VEVENT

BEGIN:VEVENT
SUMMARY:Ausschuss Planung
UID:1689
STATUS:CONFIRMED
DTSTART:20260611T140000
DTEND:20260611T140000
LAST-MODIFIED:20251009T125511
LOCATION:Gebäude des Regionalverbandes Poststraße 16  60329  Frankfurt am Main
ORGANIZER;CN=Verbandskammer des Regionalverbandes Frankfurt Rhein Main
END:VEVENT

BEGIN:VEVENT
SUMMARY:AK HaFi
UID:1690
STATUS:CONFIRMED
DTSTART:20260612T120000
DTEND:20260612T120000
LAST-MODIFIED:20251009T125600
LOCATION:Gebäude des Regionalverbandes Poststraße 16  60329  Frankfurt am Main
ORGANIZER;CN=SPD-Gruppe in der Verbandskammer
END:VEVENT

BEGIN:VEVENT
SUMMARY:Ausschuss HaFi
UID:1691
STATUS:CONFIRMED
DTSTART:20260612T130000
DTEND:20260612T130000
LAST-MODIFIED:20251009T125709
LOCATION:Gebäude des Regionalverbandes Poststraße 16  60329  Frankfurt am Main
ORGANIZER;CN=Verbandskammer des Regionalverbandes Frankfurt Rhein Main
END:VEVENT

BEGIN:VEVENT
SUMMARY:Gruppensitzung
UID:1692
STATUS:CONFIRMED
DTSTART:20260617T090000
DTEND:20260617T090000
LAST-MODIFIED:20251009T125821
LOCATION:Rathaus Römer Römerberg 23 60311 Frankfurt am Main
ORGANIZER;CN=SPD-Gruppe in der Verbandskammer
END:VEVENT

BEGIN:VEVENT
SUMMARY:Verbandskammer
UID:1693
STATUS:CONFIRMED
DTSTART:20260617T103000
DTEND:20260617T103000
LAST-MODIFIED:20251009T130057
LOCATION:Plenarsaal im Römer Frankfurt am Main Römerberg 23 60311  Frankfurt am Main
ORGANIZER;CN=Verbandskammer des Regionalverbandes Frankfurt Rhein Main
END:VEVENT

BEGIN:VEVENT
SUMMARY:Vorgespräch Koa-Runde vorsorglich
UID:1742
STATUS:CONFIRMED
DTSTART:20260710T090000
DTEND:20260710T090000
LAST-MODIFIED:20251023T123709
LOCATION:Gebäude des Regionalverbandes Poststraße 16  60329  Frankfurt am Main
ORGANIZER;CN=SPD-Gruppe in der Verbandskammer
END:VEVENT

BEGIN:VEVENT
SUMMARY:Koalitionsrunde vorsorglich
UID:1743
STATUS:CONFIRMED
DTSTART:20260710T100000
DTEND:20260710T100000
LAST-MODIFIED:20251023T123804
LOCATION:Gebäude des Regionalverbandes Poststraße 16  60329  Frankfurt am Main
ORGANIZER;CN=SPD-Gruppe in der Verbandskammer
END:VEVENT

BEGIN:VEVENT
SUMMARY:Vorgespräch Regionalvorstand vorsorglich
UID:1744
STATUS:CONFIRMED
DTSTART:20260723T090000
DTEND:20260723T090000
LAST-MODIFIED:20251023T123923
LOCATION:Gebäude des Regionalverbandes Poststraße 16  60329  Frankfurt am Main
ORGANIZER;CN=SPD im Regionalvorstand
END:VEVENT

BEGIN:VEVENT
SUMMARY:Regionalvorstand vorsorglich
UID:1745
STATUS:CONFIRMED
DTSTART:20260723T100000
DTEND:20260723T100000
LAST-MODIFIED:20251023T124017
LOCATION:Gebäude des Regionalverbandes Poststraße 16  60329  Frankfurt am Main
ORGANIZER;CN=Regionalvorstand Frankfurt Rhein Main
END:VEVENT

BEGIN:VEVENT
SUMMARY:Gruppenvorstand (vorsorgl.)
UID:1694
STATUS:CONFIRMED
DTSTART:20260811T123000
DTEND:20260811T123000
LAST-MODIFIED:20251009T130200
LOCATION:Gebäude des Regionalverbandes Poststraße 16  60329  Frankfurt am Main
ORGANIZER;CN=SPD-Gruppe in der Verbandskammer
END:VEVENT

BEGIN:VEVENT
SUMMARY:Gruppensitzung (vorsorgl.)
UID:1695
STATUS:CONFIRMED
DTSTART:20260811T140000
DTEND:20260811T140000
LAST-MODIFIED:20251009T130253
LOCATION:Gebäude des Regionalverbandes Poststraße 16  60329  Frankfurt am Main
ORGANIZER;CN=SPD-Gruppe in der Verbandskammer
END:VEVENT

BEGIN:VEVENT
SUMMARY:AK Planung (vorsorgl.)
UID:1696
STATUS:CONFIRMED
DTSTART:20260820T130000
DTEND:20260820T130000
LAST-MODIFIED:20251009T130635
LOCATION:Gebäude des Regionalverbandes Poststraße 16  60329  Frankfurt am Main
ORGANIZER;CN=SPD-Gruppe in der Verbandskammer
END:VEVENT

BEGIN:VEVENT
SUMMARY:Ausschuss Planung (vorsorgl.)
UID:1697
STATUS:CONFIRMED
DTSTART:20260820T140000
DTEND:20260820T140000
LAST-MODIFIED:20251009T130738
LOCATION:Gebäude des Regionalverbandes Poststraße 16  60329  Frankfurt am Main
ORGANIZER;CN=Verbandskammer des Regionalverbandes Frankfurt Rhein Main
END:VEVENT

BEGIN:VEVENT
SUMMARY:AK HaFi (vorsorgl.)
UID:1698
STATUS:CONFIRMED
DTSTART:20260821T120000
DTEND:20260821T120000
LAST-MODIFIED:20251009T130840
LOCATION:Gebäude des Regionalverbandes Poststraße 16  60329  Frankfurt am Main
ORGANIZER;CN=SPD-Gruppe in der Verbandskammer
END:VEVENT

BEGIN:VEVENT
SUMMARY:Ausschuss HaFi (vorsorgl.)
UID:1699
STATUS:CONFIRMED
DTSTART:20260821T130000
DTEND:20260821T130000
LAST-MODIFIED:20251009T130930
LOCATION:Gebäude des Regionalverbandes Poststraße 16  60329  Frankfurt am Main
ORGANIZER;CN=Verbandskammer des Regionalverbandes Frankfurt Rhein Main
END:VEVENT

BEGIN:VEVENT
SUMMARY:Gruppensitzung (vorsorgl.)
UID:1700
STATUS:CONFIRMED
DTSTART:20260826T090000
DTEND:20260826T090000
LAST-MODIFIED:20251009T131214
LOCATION:Rathaus Römer Römerberg 23 60311 Frankfurt am Main
ORGANIZER;CN=SPD-Gruppe in der Verbandskammer
END:VEVENT

BEGIN:VEVENT
SUMMARY:Verbandskammer (vorsorgl.)
UID:1701
STATUS:CONFIRMED
DTSTART:20260826T103000
DTEND:20260826T103000
LAST-MODIFIED:20251009T131306
LOCATION:Plenarsaal im Römer Frankfurt am Main Römerberg 23 60311  Frankfurt am Main
ORGANIZER;CN=Verbandskammer des Regionalverbandes Frankfurt Rhein Main
END:VEVENT

BEGIN:VEVENT
SUMMARY:Gruppensitzung Konstituierung
UID:1702
STATUS:CONFIRMED
DTSTART:20260826T123000
DTEND:20260826T123000
LAST-MODIFIED:20251009T131411
LOCATION:Gebäude des Regionalverbandes Poststraße 16  60329  Frankfurt am Main
ORGANIZER;CN=SPD-Gruppe in der Verbandskammer
END:VEVENT

BEGIN:VEVENT
SUMMARY:Gruppensitzung Konstituierung (Alternativ)
UID:1703
STATUS:CONFIRMED
DTSTART:20260828T123000
DTEND:20260828T123000
LAST-MODIFIED:20251009T131540
LOCATION:Gebäude des Regionalverbandes Poststraße 16  60329  Frankfurt am Main
ORGANIZER;CN=SPD-Gruppe in der Verbandskammer
END:VEVENT

BEGIN:VEVENT
SUMMARY:Gruppensitzung
UID:1704
STATUS:CONFIRMED
DTSTART:20260909T090000
DTEND:20260909T090000
LAST-MODIFIED:20251009T131645
LOCATION:Rathaus Römer Römerberg 23 60311 Frankfurt am Main
ORGANIZER;CN=SPD-Gruppe in der Verbandskammer
END:VEVENT

BEGIN:VEVENT
SUMMARY:Verbandskammer Konstituierung
UID:1705
STATUS:CONFIRMED
DTSTART:20260909T103000
DTEND:20260909T103000
LAST-MODIFIED:20251009T131737
LOCATION:Plenarsaal im Römer Frankfurt am Main Römerberg 23 60311  Frankfurt am Main
ORGANIZER;CN=Verbandskammer des Regionalverbandes Frankfurt Rhein Main
END:VEVENT

BEGIN:VEVENT
SUMMARY:Vorgespräch Arbeitskreis Grundsatzfragen
UID:1706
STATUS:CONFIRMED
DTSTART:20260910T093000
DTEND:20260910T093000
LAST-MODIFIED:20251009T132237
LOCATION:Gebäude des Regionalverbandes Poststraße 16  60329  Frankfurt am Main
ORGANIZER;CN=SPD-Gruppe in der Verbandskammer
END:VEVENT

BEGIN:VEVENT
SUMMARY:Arbeitskreis Grundsatzfragen
UID:1707
STATUS:CONFIRMED
DTSTART:20260910T100000
DTEND:20260910T100000
LAST-MODIFIED:20251009T132342
LOCATION:Gebäude des Regionalverbandes Poststraße 16  60329  Frankfurt am Main
ORGANIZER;CN=Verbandskammer des Regionalverbandes Frankfurt Rhein Main
END:VEVENT

BEGIN:VEVENT
SUMMARY:Vorgespräch Koa-Runde
UID:1708
STATUS:CONFIRMED
DTSTART:20260918T120000
DTEND:20260918T120000
LAST-MODIFIED:20251009T132442
LOCATION:Gebäude des Regionalverbandes Poststraße 16  60329  Frankfurt am Main
ORGANIZER;CN=SPD-Gruppe in der Verbandskammer
END:VEVENT

BEGIN:VEVENT
SUMMARY:Koalitionsrunde
UID:1746
STATUS:CONFIRMED
DTSTART:20260918T130000
DTEND:20260918T130000
LAST-MODIFIED:20251023T124530
LOCATION:Gebäude des Regionalverbandes Poststraße 16  60329  Frankfurt am Main
ORGANIZER;CN=SPD-Gruppe in der Verbandskammer
END:VEVENT

BEGIN:VEVENT
SUMMARY:Vorgespräch Regionalvorstand
UID:1709
STATUS:CONFIRMED
DTSTART:20261001T090000
DTEND:20261001T090000
LAST-MODIFIED:20251009T132702
LOCATION:Gebäude des Regionalverbandes Poststraße 16  60329  Frankfurt am Main
ORGANIZER;CN=SPD im Regionalvorstand
END:VEVENT

BEGIN:VEVENT
SUMMARY:Regionalvorstand Konstituierung
UID:1710
STATUS:CONFIRMED
DTSTART:20261001T100000
DTEND:20261001T100000
LAST-MODIFIED:20251023T123340
LOCATION:Gebäude des Regionalverbandes Poststraße 16  60329  Frankfurt am Main
ORGANIZER;CN=Regionalvorstand Frankfurt Rhein Main
END:VEVENT

BEGIN:VEVENT
SUMMARY:Vorgespräch KOA-Runde
UID:1711
STATUS:CONFIRMED
DTSTART:20261016T090000
DTEND:20261016T090000
LAST-MODIFIED:20251009T132754
LOCATION:Gebäude des Regionalverbandes Poststraße 16  60329  Frankfurt am Main
ORGANIZER;CN=SPD-Gruppe in der Verbandskammer
END:VEVENT

BEGIN:VEVENT
SUMMARY:KOA-Runde
UID:1712
STATUS:CONFIRMED
DTSTART:20261016T100000
DTEND:20261016T100000
LAST-MODIFIED:20251009T132841
LOCATION:Gebäude des Regionalverbandes Poststraße 16  60329  Frankfurt am Main
ORGANIZER;CN=SPD-Gruppe in der Verbandskammer
END:VEVENT

BEGIN:VEVENT
SUMMARY:Gruppenvorstand
UID:1713
STATUS:CONFIRMED
DTSTART:20261027T123000
DTEND:20261027T123000
LAST-MODIFIED:20251009T132926
LOCATION:Gebäude des Regionalverbandes Poststraße 16  60329  Frankfurt am Main
ORGANIZER;CN=SPD-Gruppe in der Verbandskammer
END:VEVENT

BEGIN:VEVENT
SUMMARY:Gruppensitzung
UID:1714
STATUS:CONFIRMED
DTSTART:20261027T140000
DTEND:20261027T140000
LAST-MODIFIED:20251009T133020
LOCATION:Gebäude des Regionalverbandes Poststraße 16  60329  Frankfurt am Main
ORGANIZER;CN=SPD-Gruppe in der Verbandskammer
END:VEVENT

BEGIN:VEVENT
SUMMARY:Vorgespräch Regionalvorstand
UID:1715
STATUS:CONFIRMED
DTSTART:20261029T090000
DTEND:20261029T090000
LAST-MODIFIED:20251009T133113
LOCATION:Gebäude des Regionalverbandes Poststraße 16  60329  Frankfurt am Main
ORGANIZER;CN=SPD im Regionalvorstand
END:VEVENT

BEGIN:VEVENT
SUMMARY:Regionalvorstand (Etat)
UID:1716
STATUS:CONFIRMED
DTSTART:20261029T100000
DTEND:20261029T100000
LAST-MODIFIED:20251009T133200
LOCATION:Gebäude des Regionalverbandes Poststraße 16  60329  Frankfurt am Main
ORGANIZER;CN=Regionalvorstand Frankfurt Rhein Main
END:VEVENT

BEGIN:VEVENT
SUMMARY:AK Planung
UID:1717
STATUS:CONFIRMED
DTSTART:20261105T130000
DTEND:20261105T130000
LAST-MODIFIED:20251009T133452
LOCATION:Gebäude des Regionalverbandes Poststraße 16  60329  Frankfurt am Main
ORGANIZER;CN=SPD-Gruppe in der Verbandskammer
END:VEVENT

BEGIN:VEVENT
SUMMARY:Ausschuss Planung
UID:1718
STATUS:CONFIRMED
DTSTART:20261105T140000
DTEND:20261105T140000
LAST-MODIFIED:20251009T133531
LOCATION:Gebäude des Regionalverbandes Poststraße 16  60329  Frankfurt am Main
ORGANIZER;CN=Verbandskammer des Regionalverbandes Frankfurt Rhein Main
END:VEVENT

BEGIN:VEVENT
SUMMARY:Vorgespräch KOA-Runde
UID:1719
STATUS:CONFIRMED
DTSTART:20261106T090000
DTEND:20261106T090000
LAST-MODIFIED:20251009T133625
LOCATION:Gebäude des Regionalverbandes Poststraße 16  60329  Frankfurt am Main
ORGANIZER;CN=SPD-Gruppe in der Verbandskammer
END:VEVENT

BEGIN:VEVENT
SUMMARY:AK HaFi
UID:1721
STATUS:CONFIRMED
DTSTART:20261106T090000
DTEND:20261106T090000
LAST-MODIFIED:20251023T122638
LOCATION:Gebäude des Regionalverbandes Poststraße 16  60329  Frankfurt am Main
ORGANIZER;CN=SPD-Gruppe in der Verbandskammer
END:VEVENT

BEGIN:VEVENT
SUMMARY:KOA-Runde
UID:1720
STATUS:CONFIRMED
DTSTART:20261106T100000
DTEND:20261106T100000
LAST-MODIFIED:20251009T133706
LOCATION:Gebäude des Regionalverbandes Poststraße 16  60329  Frankfurt am Main
ORGANIZER;CN=SPD-Gruppe in der Verbandskammer
END:VEVENT

BEGIN:VEVENT
SUMMARY:Ausschuss HaFi
UID:1722
STATUS:CONFIRMED
DTSTART:20261106T100000
DTEND:20261106T100000
LAST-MODIFIED:20251023T122700
LOCATION:Gebäude des Regionalverbandes Poststraße 16  60329  Frankfurt am Main
ORGANIZER;CN=Verbandskammer des Regionalverbandes Frankfurt Rhein Main
END:VEVENT

BEGIN:VEVENT
SUMMARY:Gruppensitzung
UID:1723
STATUS:CONFIRMED
DTSTART:20261111T090000
DTEND:20261111T090000
LAST-MODIFIED:20251009T133910
LOCATION:Rathaus Römer Römerberg 23 60311 Frankfurt am Main
ORGANIZER;CN=SPD-Gruppe in der Verbandskammer
END:VEVENT

BEGIN:VEVENT
SUMMARY:Verbandskammer
UID:1724
STATUS:CONFIRMED
DTSTART:20261111T103000
DTEND:20261111T103000
LAST-MODIFIED:20251009T133954
LOCATION:Plenarsaal im Römer Frankfurt am Main Römerberg 23 60311  Frankfurt am Main
ORGANIZER;CN=Verbandskammer des Regionalverbandes Frankfurt Rhein Main
END:VEVENT

BEGIN:VEVENT
SUMMARY:Vorgespräch Regionalvorstand
UID:1725
STATUS:CONFIRMED
DTSTART:20261119T090000
DTEND:20261119T090000
LAST-MODIFIED:20251009T134216
LOCATION:Gebäude des Regionalverbandes Poststraße 16  60329  Frankfurt am Main
ORGANIZER;CN=SPD im Regionalvorstand
END:VEVENT

BEGIN:VEVENT
SUMMARY:Regionalvorstand
UID:1726
STATUS:CONFIRMED
DTSTART:20261119T100000
DTEND:20261119T100000
LAST-MODIFIED:20251009T134142
LOCATION:Gebäude des Regionalverbandes Poststraße 16  60329  Frankfurt am Main
ORGANIZER;CN=Regionalvorstand Frankfurt Rhein Main
END:VEVENT

BEGIN:VEVENT
SUMMARY:Vorgespräch Arbeitskreis Grundsatzfragen
UID:1727
STATUS:CONFIRMED
DTSTART:20261126T093000
DTEND:20261126T093000
LAST-MODIFIED:20251009T134342
LOCATION:Gebäude des Regionalverbandes Poststraße 16  60329  Frankfurt am Main
ORGANIZER;CN=SPD-Gruppe in der Verbandskammer
END:VEVENT

BEGIN:VEVENT
SUMMARY:Arbeitskreis Grundsatzfragen
UID:1728
STATUS:CONFIRMED
DTSTART:20261126T100000
DTEND:20261126T100000
LAST-MODIFIED:20251009T134428
LOCATION:Gebäude des Regionalverbandes Poststraße 16  60329  Frankfurt am Main
ORGANIZER;CN=Verbandskammer des Regionalverbandes Frankfurt Rhein Main
END:VEVENT

BEGIN:VEVENT
SUMMARY:Gruppenvorstand
UID:1729
STATUS:CONFIRMED
DTSTART:20261201T123000
DTEND:20261201T123000
LAST-MODIFIED:20251009T134521
LOCATION:Gebäude des Regionalverbandes Poststraße 16  60329  Frankfurt am Main
ORGANIZER;CN=SPD-Gruppe in der Verbandskammer
END:VEVENT

BEGIN:VEVENT
SUMMARY:Gruppensitzung
UID:1730
STATUS:CONFIRMED
DTSTART:20261201T140000
DTEND:20261201T140000
LAST-MODIFIED:20251009T134602
LOCATION:Gebäude des Regionalverbandes Poststraße 16  60329  Frankfurt am Main
ORGANIZER;CN=SPD-Gruppe in der Verbandskammer
END:VEVENT

BEGIN:VEVENT
SUMMARY:AK HaFi
UID:1731
STATUS:CONFIRMED
DTSTART:20261204T120000
DTEND:20261204T120000
LAST-MODIFIED:20251009T134649
LOCATION:Gebäude des Regionalverbandes Poststraße 16  60329  Frankfurt am Main
ORGANIZER;CN=SPD-Gruppe in der Verbandskammer
END:VEVENT

BEGIN:VEVENT
SUMMARY:Ausschuss HaFi
UID:1732
STATUS:CONFIRMED
DTSTART:20261204T130000
DTEND:20261204T130000
LAST-MODIFIED:20251009T134731
LOCATION:Gebäude des Regionalverbandes Poststraße 16  60329  Frankfurt am Main
ORGANIZER;CN=Verbandskammer des Regionalverbandes Frankfurt Rhein Main
END:VEVENT

BEGIN:VEVENT
SUMMARY:AK Planung
UID:1733
STATUS:CONFIRMED
DTSTART:20261210T130000
DTEND:20261210T130000
LAST-MODIFIED:20251009T134807
LOCATION:Gebäude des Regionalverbandes Poststraße 16  60329  Frankfurt am Main
ORGANIZER;CN=SPD-Gruppe in der Verbandskammer
END:VEVENT

BEGIN:VEVENT
SUMMARY:Ausschuss Planung
UID:1734
STATUS:CONFIRMED
DTSTART:20261210T140000
DTEND:20261210T140000
LAST-MODIFIED:20251009T134847
LOCATION:Gebäude des Regionalverbandes Poststraße 16  60329  Frankfurt am Main
ORGANIZER;CN=Verbandskammer des Regionalverbandes Frankfurt Rhein Main
END:VEVENT

BEGIN:VEVENT
SUMMARY:AK HaFi
UID:1735
STATUS:CONFIRMED
DTSTART:20261211T090000
DTEND:20261211T090000
LAST-MODIFIED:20251009T134936
LOCATION:Gebäude des Regionalverbandes Poststraße 16  60329  Frankfurt am Main
ORGANIZER;CN=SPD-Gruppe in der Verbandskammer
END:VEVENT

BEGIN:VEVENT
SUMMARY:Ausschuss HaFi
UID:1736
STATUS:CONFIRMED
DTSTART:20261211T100000
DTEND:20261211T100000
LAST-MODIFIED:20251009T135137
LOCATION:Gebäude des Regionalverbandes Poststraße 16  60329  Frankfurt am Main
ORGANIZER;CN=Verbandskammer des Regionalverbandes Frankfurt Rhein Main
END:VEVENT

BEGIN:VEVENT
SUMMARY:Gruppensitzung
UID:1737
STATUS:CONFIRMED
DTSTART:20261216T090000
DTEND:20261216T090000
LAST-MODIFIED:20251009T135509
LOCATION:Gebäude des Regionalverbandes Poststraße 16  60329  Frankfurt am Main
ORGANIZER;CN=SPD-Gruppe in der Verbandskammer
END:VEVENT

BEGIN:VEVENT
SUMMARY:Verbandskammer
UID:1738
STATUS:CONFIRMED
DTSTART:20261216T103000
DTEND:20261216T103000
LAST-MODIFIED:20251009T135550
LOCATION:Gebäude des Regionalverbandes Poststraße 16  60329  Frankfurt am Main
ORGANIZER;CN=Verbandskammer des Regionalverbandes Frankfurt Rhein Main
END:VEVENT
END:VCALENDAR